BEGIN:VCALENDAR
VERSION:2.0
PRODID:-//Office of Public Scholarship//NONSGML v1.0//EN
CALSCALE:GREGORIAN
METHOD:PUBLISH
BEGIN:VEVENT
UID:827-0
SUMMARY:A Conversation with Dr. Katelyn Jetelina
DTSTART:20251112T210000Z
DTEND:20251112T220000Z
DTSTAMP:20250728T152809Z
LAST-MODIFIED:20251105T212032Z
SEQUENCE:0
LOCATION:Clark-Fox Forum, Hillman Hall
DESCRIPTION:\n\n\n\n\n\nPlease join us for a talk by epidemiologist and data scientist Dr. Katelyn Jetelina\, founder and author of the #1-ranked science Substack newsletter\, “Your Local Epidemiologist.”\n\n\n\nThe talk will be followed by a conversation between Dr. Jetelina and Dean Sandro Galea and audience Q&A. Reception to follow.\n\n\n\nCo-sponsored by the School of Public Health and the Office of Public Scholarship\n\n\n\n\n\nRSVP Here\n\n\n\n\n\n
END:VEVENT
END:VCALENDAR